BEGIN:VCALENDAR
VERSION:2.0
PRODID:-//NADI Ayer Lanas - ECPv6.15.20//NONSGML v1.0//EN
CALSCALE:GREGORIAN
METHOD:PUBLISH
X-WR-CALNAME:NADI Ayer Lanas
X-ORIGINAL-URL:https://ayerlanas.nadi.my
X-WR-CALDESC:Events for NADI Ayer Lanas
REFRESH-INTERVAL;VALUE=DURATION:PT1H
X-Robots-Tag:noindex
X-PUBLISHED-TTL:PT1H
BEGIN:VTIMEZONE
TZID:Asia/Kuala_Lumpur
BEGIN:STANDARD
TZOFFSETFROM:+0800
TZOFFSETTO:+0800
TZNAME:+08
DTSTART:20250101T000000
END:STANDARD
END:VTIMEZONE
BEGIN:VEVENT
DTSTART;TZID=Asia/Kuala_Lumpur:20260203T090000
DTEND;TZID=Asia/Kuala_Lumpur:20260206T170000
DTSTAMP:20260421T074129
CREATED:20260205T090547Z
LAST-MODIFIED:20260205T090547Z
UID:3335-1770109200-1770397200@ayerlanas.nadi.my
SUMMARY:Tontonan Webinar On-Demand 29 Januari 2026
DESCRIPTION:
URL:https://ayerlanas.nadi.my/event/tontonan-webinar-on-demand-29-januari-2026/
END:VEVENT
BEGIN:VEVENT
DTSTART;TZID=Asia/Kuala_Lumpur:20260203T090000
DTEND;TZID=Asia/Kuala_Lumpur:20260208T170000
DTSTAMP:20260421T074129
CREATED:20260205T090711Z
LAST-MODIFIED:20260205T090711Z
UID:3337-1770109200-1770570000@ayerlanas.nadi.my
SUMMARY:VIDEO ON DEMAND - REVISION VIDEO SESI 27
DESCRIPTION:
URL:https://ayerlanas.nadi.my/event/video-on-demand-revision-video-sesi-27/
END:VEVENT
BEGIN:VEVENT
DTSTART;TZID=Asia/Kuala_Lumpur:20260205T153000
DTEND;TZID=Asia/Kuala_Lumpur:20260205T163000
DTSTAMP:20260421T074129
CREATED:20260205T022315Z
LAST-MODIFIED:20260205T022315Z
UID:3323-1770305400-1770309000@ayerlanas.nadi.my
SUMMARY:OPEN TUITION LIVE CLASSES : MATEMATIK
DESCRIPTION:
URL:https://ayerlanas.nadi.my/event/open-tuition-live-classes-matematik/
END:VEVENT
BEGIN:VEVENT
DTSTART;TZID=Asia/Kuala_Lumpur:20260206T153000
DTEND;TZID=Asia/Kuala_Lumpur:20260206T163000
DTSTAMP:20260421T074129
CREATED:20260205T090153Z
LAST-MODIFIED:20260205T090153Z
UID:3327-1770391800-1770395400@ayerlanas.nadi.my
SUMMARY:OPEN TUITION LIVE CLASSES : MATEMATIK
DESCRIPTION:
URL:https://ayerlanas.nadi.my/event/open-tuition-live-classes-matematik-2/
END:VEVENT
BEGIN:VEVENT
DTSTART;TZID=Asia/Kuala_Lumpur:20260207T140000
DTEND;TZID=Asia/Kuala_Lumpur:20260207T150000
DTSTAMP:20260421T074129
CREATED:20260205T090438Z
LAST-MODIFIED:20260205T090438Z
UID:3333-1770472800-1770476400@ayerlanas.nadi.my
SUMMARY:KELAS ULANGKAJI MICROBIT/ ROBOTIK
DESCRIPTION:
URL:https://ayerlanas.nadi.my/event/kelas-ulangkaji-microbit-robotik/
END:VEVENT
BEGIN:VEVENT
DTSTART;TZID=Asia/Kuala_Lumpur:20260207T150000
DTEND;TZID=Asia/Kuala_Lumpur:20260207T160000
DTSTAMP:20260421T074129
CREATED:20260206T082738Z
LAST-MODIFIED:20260206T082738Z
UID:3353-1770476400-1770480000@ayerlanas.nadi.my
SUMMARY:KEMPEN INTERNET SELAMAT : ELAK BULI SIBER\, TANGGUNGJAWAB  DIGITAL\, MULAKAN DARI KITA
DESCRIPTION:
URL:https://ayerlanas.nadi.my/event/kempen-internet-selamat-elak-buli-siber-tanggungjawab-digital-mulakan-dari-kita/
END:VEVENT
BEGIN:VEVENT
DTSTART;TZID=Asia/Kuala_Lumpur:20260209T153000
DTEND;TZID=Asia/Kuala_Lumpur:20260209T163000
DTSTAMP:20260421T074129
CREATED:20260205T090225Z
LAST-MODIFIED:20260205T090225Z
UID:3329-1770651000-1770654600@ayerlanas.nadi.my
SUMMARY:OPEN TUITION LIVE CLASSES : SEJARAH
DESCRIPTION:
URL:https://ayerlanas.nadi.my/event/open-tuition-live-classes-sejarah/
END:VEVENT
BEGIN:VEVENT
DTSTART;TZID=Asia/Kuala_Lumpur:20260210T093000
DTEND;TZID=Asia/Kuala_Lumpur:20260210T110000
DTSTAMP:20260421T074129
CREATED:20260205T093153Z
LAST-MODIFIED:20260205T093153Z
UID:3339-1770715800-1770721200@ayerlanas.nadi.my
SUMMARY:MAHIR MASAK INTAKE #3
DESCRIPTION:
URL:https://ayerlanas.nadi.my/event/mahir-masak-intake-3/
END:VEVENT
BEGIN:VEVENT
DTSTART;TZID=Asia/Kuala_Lumpur:20260210T150000
DTEND;TZID=Asia/Kuala_Lumpur:20260210T163000
DTSTAMP:20260421T074129
CREATED:20260205T093231Z
LAST-MODIFIED:20260205T093231Z
UID:3341-1770735600-1770741000@ayerlanas.nadi.my
SUMMARY:MAHIR JAHIT INTAKE #3
DESCRIPTION:
URL:https://ayerlanas.nadi.my/event/mahir-jahit-intake-3/
END:VEVENT
BEGIN:VEVENT
DTSTART;TZID=Asia/Kuala_Lumpur:20260212T153000
DTEND;TZID=Asia/Kuala_Lumpur:20260212T163000
DTSTAMP:20260421T074129
CREATED:20260205T090258Z
LAST-MODIFIED:20260205T090258Z
UID:3331-1770910200-1770913800@ayerlanas.nadi.my
SUMMARY:OPEN TUITION LIVE CLASSES : SAINS
DESCRIPTION:
URL:https://ayerlanas.nadi.my/event/open-tuition-live-classes-sains/
END:VEVENT
BEGIN:VEVENT
DTSTART;TZID=Asia/Kuala_Lumpur:20260217T093000
DTEND;TZID=Asia/Kuala_Lumpur:20260217T110000
DTSTAMP:20260421T074129
CREATED:20260205T093309Z
LAST-MODIFIED:20260205T093328Z
UID:3343-1771320600-1771326000@ayerlanas.nadi.my
SUMMARY:MAHIR MASAK INTAKE #3
DESCRIPTION:
URL:https://ayerlanas.nadi.my/event/mahir-masak-intake-3-2/
END:VEVENT
BEGIN:VEVENT
DTSTART;TZID=Asia/Kuala_Lumpur:20260217T150000
DTEND;TZID=Asia/Kuala_Lumpur:20260217T163000
DTSTAMP:20260421T074129
CREATED:20260205T093357Z
LAST-MODIFIED:20260205T093357Z
UID:3345-1771340400-1771345800@ayerlanas.nadi.my
SUMMARY:MAHIR JAHIT INTAKE #3
DESCRIPTION:
URL:https://ayerlanas.nadi.my/event/mahir-jahit-intake-3-2/
END:VEVENT
BEGIN:VEVENT
DTSTART;TZID=Asia/Kuala_Lumpur:20260220T153000
DTEND;TZID=Asia/Kuala_Lumpur:20260220T163000
DTSTAMP:20260421T074129
CREATED:20260205T022354Z
LAST-MODIFIED:20260205T022354Z
UID:3325-1771601400-1771605000@ayerlanas.nadi.my
SUMMARY:OPEN TUITION LIVE CLASSES : BAHASA INGGERIS
DESCRIPTION:
URL:https://ayerlanas.nadi.my/event/open-tuition-live-classes-bahasa-inggeris/
END:VEVENT
BEGIN:VEVENT
DTSTART;TZID=Asia/Kuala_Lumpur:20260224T093000
DTEND;TZID=Asia/Kuala_Lumpur:20260224T110000
DTSTAMP:20260421T074129
CREATED:20260205T093447Z
LAST-MODIFIED:20260205T093447Z
UID:3347-1771925400-1771930800@ayerlanas.nadi.my
SUMMARY:MAHIR MASAK INTAKE #3
DESCRIPTION:
URL:https://ayerlanas.nadi.my/event/mahir-masak-intake-3-3/
END:VEVENT
BEGIN:VEVENT
DTSTART;TZID=Asia/Kuala_Lumpur:20260224T150000
DTEND;TZID=Asia/Kuala_Lumpur:20260224T163000
DTSTAMP:20260421T074129
CREATED:20260205T093648Z
LAST-MODIFIED:20260205T093648Z
UID:3349-1771945200-1771950600@ayerlanas.nadi.my
SUMMARY:MAHIR JAHIT INTAKE #3
DESCRIPTION:
URL:https://ayerlanas.nadi.my/event/mahir-jahit-intake-3-3/
END:VEVENT
BEGIN:VEVENT
DTSTART;TZID=Asia/Kuala_Lumpur:20260226T153000
DTEND;TZID=Asia/Kuala_Lumpur:20260226T163000
DTSTAMP:20260421T074129
CREATED:20260224T031929Z
LAST-MODIFIED:20260224T031929Z
UID:3446-1772119800-1772123400@ayerlanas.nadi.my
SUMMARY:OPEN TUITION LIVE CLASSES : SAINS
DESCRIPTION:
URL:https://ayerlanas.nadi.my/event/open-tuition-live-classes-sains-2/
END:VEVENT
BEGIN:VEVENT
DTSTART;TZID=Asia/Kuala_Lumpur:20260227T153000
DTEND;TZID=Asia/Kuala_Lumpur:20260227T163000
DTSTAMP:20260421T074129
CREATED:20260224T031849Z
LAST-MODIFIED:20260224T031849Z
UID:3444-1772206200-1772209800@ayerlanas.nadi.my
SUMMARY:OPEN TUITION LIVE CLASSES : BAHASA MELAYU
DESCRIPTION:
URL:https://ayerlanas.nadi.my/event/open-tuition-live-classes-bahasa-melayu/
END:VEVENT
END:VCALENDAR