BEGIN:VCALENDAR
VERSION:2.0
PRODID:-//NADI Ayer Lanas - ECPv6.15.20//NONSGML v1.0//EN
CALSCALE:GREGORIAN
METHOD:PUBLISH
X-WR-CALNAME:NADI Ayer Lanas
X-ORIGINAL-URL:https://ayerlanas.nadi.my
X-WR-CALDESC:Events for NADI Ayer Lanas
REFRESH-INTERVAL;VALUE=DURATION:PT1H
X-Robots-Tag:noindex
X-PUBLISHED-TTL:PT1H
BEGIN:VTIMEZONE
TZID:Asia/Kuala_Lumpur
BEGIN:STANDARD
TZOFFSETFROM:+0800
TZOFFSETTO:+0800
TZNAME:+08
DTSTART:20240101T000000
END:STANDARD
END:VTIMEZONE
BEGIN:VEVENT
DTSTART;TZID=Asia/Kuala_Lumpur:20250811T153000
DTEND;TZID=Asia/Kuala_Lumpur:20250811T163000
DTSTAMP:20260425T014420
CREATED:20250807T091534Z
LAST-MODIFIED:20250807T091534Z
UID:2699-1754926200-1754929800@ayerlanas.nadi.my
SUMMARY:OPEN TUITION : SEJARAH (TING 3\,4 & 5)
DESCRIPTION:
URL:https://ayerlanas.nadi.my/event/open-tuition-sejarah-ting-34-5/
END:VEVENT
BEGIN:VEVENT
DTSTART;TZID=Asia/Kuala_Lumpur:20250814T150000
DTEND;TZID=Asia/Kuala_Lumpur:20250814T163000
DTSTAMP:20260425T014420
CREATED:20250807T093404Z
LAST-MODIFIED:20250807T093404Z
UID:2717-1755183600-1755189000@ayerlanas.nadi.my
SUMMARY:[WEBINAR NADI x CYBERSECURITY] 📱 SELAMATKAH TELEFON ANDA DARIPADA ANCAMAN?
DESCRIPTION:
URL:https://ayerlanas.nadi.my/event/webinar-nadi-x-cybersecurity-%f0%9f%93%b1-selamatkah-telefon-anda-daripada-ancaman/
END:VEVENT
BEGIN:VEVENT
DTSTART;TZID=Asia/Kuala_Lumpur:20250814T153000
DTEND;TZID=Asia/Kuala_Lumpur:20250814T163000
DTSTAMP:20260425T014420
CREATED:20250807T091627Z
LAST-MODIFIED:20250807T091627Z
UID:2701-1755185400-1755189000@ayerlanas.nadi.my
SUMMARY:OPEN TUITION SAINS (TING 3\,4 & 5)
DESCRIPTION:
URL:https://ayerlanas.nadi.my/event/open-tuition-sains-ting-34-5/
END:VEVENT
BEGIN:VEVENT
DTSTART;TZID=Asia/Kuala_Lumpur:20250817T090000
DTEND;TZID=Asia/Kuala_Lumpur:20250817T170000
DTSTAMP:20260425T014420
CREATED:20250807T092533Z
LAST-MODIFIED:20250807T092533Z
UID:2711-1755421200-1755450000@ayerlanas.nadi.my
SUMMARY:DILEA : VIDEO ULANGKAJI
DESCRIPTION:
URL:https://ayerlanas.nadi.my/event/dilea-video-ulangkaji/
END:VEVENT
BEGIN:VEVENT
DTSTART;TZID=Asia/Kuala_Lumpur:20250818T153000
DTEND;TZID=Asia/Kuala_Lumpur:20250818T163000
DTSTAMP:20260425T014420
CREATED:20250807T091705Z
LAST-MODIFIED:20250807T091705Z
UID:2703-1755531000-1755534600@ayerlanas.nadi.my
SUMMARY:OPEN TUITION MATEMATIK (TING 3\,4 & 5)
DESCRIPTION:
URL:https://ayerlanas.nadi.my/event/open-tuition-matematik-ting-34-5/
END:VEVENT
BEGIN:VEVENT
DTSTART;TZID=Asia/Kuala_Lumpur:20250819T153000
DTEND;TZID=Asia/Kuala_Lumpur:20250819T163000
DTSTAMP:20260425T014420
CREATED:20250807T091756Z
LAST-MODIFIED:20250807T091756Z
UID:2705-1755617400-1755621000@ayerlanas.nadi.my
SUMMARY:OPEN TUITION BAHASA INGGERIS (TING 3\,4 & 5)
DESCRIPTION:
URL:https://ayerlanas.nadi.my/event/open-tuition-bahasa-inggeris-ting-34-5/
END:VEVENT
BEGIN:VEVENT
DTSTART;TZID=Asia/Kuala_Lumpur:20250821T153000
DTEND;TZID=Asia/Kuala_Lumpur:20250821T163000
DTSTAMP:20260425T014420
CREATED:20250807T092344Z
LAST-MODIFIED:20250807T092344Z
UID:2707-1755790200-1755793800@ayerlanas.nadi.my
SUMMARY:OPEN TUITION BAHASA MELAYU (TING 3\,4 & 5)
DESCRIPTION:
URL:https://ayerlanas.nadi.my/event/open-tuition-bahasa-melayu-ting-34-5/
END:VEVENT
BEGIN:VEVENT
DTSTART;TZID=Asia/Kuala_Lumpur:20250822T090000
DTEND;TZID=Asia/Kuala_Lumpur:20250822T170000
DTSTAMP:20260425T014420
CREATED:20250807T092600Z
LAST-MODIFIED:20250807T092600Z
UID:2713-1755853200-1755882000@ayerlanas.nadi.my
SUMMARY:DILEA:VIDEO ULANGKAJI
DESCRIPTION:
URL:https://ayerlanas.nadi.my/event/dileavideo-ulangkaji/
END:VEVENT
BEGIN:VEVENT
DTSTART;TZID=Asia/Kuala_Lumpur:20250826T090000
DTEND;TZID=Asia/Kuala_Lumpur:20250826T170000
DTSTAMP:20260425T014420
CREATED:20250807T092636Z
LAST-MODIFIED:20250807T092636Z
UID:2715-1756198800-1756227600@ayerlanas.nadi.my
SUMMARY:DILEA : VIDEO ULANGKAJI
DESCRIPTION:
URL:https://ayerlanas.nadi.my/event/dilea-video-ulangkaji-2/
END:VEVENT
BEGIN:VEVENT
DTSTART;TZID=Asia/Kuala_Lumpur:20250828T153000
DTEND;TZID=Asia/Kuala_Lumpur:20250828T163000
DTSTAMP:20260425T014420
CREATED:20250807T092420Z
LAST-MODIFIED:20250807T092420Z
UID:2709-1756395000-1756398600@ayerlanas.nadi.my
SUMMARY:OPEN TUITION SAINS (TING 3\,4 & 5)
DESCRIPTION:
URL:https://ayerlanas.nadi.my/event/open-tuition-sains-ting-34-5-2/
END:VEVENT
END:VCALENDAR