BEGIN:VCALENDAR
VERSION:2.0
PRODID:-//NADI Ayer Lanas - ECPv6.15.20//NONSGML v1.0//EN
CALSCALE:GREGORIAN
METHOD:PUBLISH
X-WR-CALNAME:NADI Ayer Lanas
X-ORIGINAL-URL:https://ayerlanas.nadi.my
X-WR-CALDESC:Events for NADI Ayer Lanas
REFRESH-INTERVAL;VALUE=DURATION:PT1H
X-Robots-Tag:noindex
X-PUBLISHED-TTL:PT1H
BEGIN:VTIMEZONE
TZID:Asia/Kuala_Lumpur
BEGIN:STANDARD
TZOFFSETFROM:+0800
TZOFFSETTO:+0800
TZNAME:+08
DTSTART:20250101T000000
END:STANDARD
END:VTIMEZONE
BEGIN:VEVENT
DTSTART;TZID=Asia/Kuala_Lumpur:20260217T093000
DTEND;TZID=Asia/Kuala_Lumpur:20260217T110000
DTSTAMP:20260421T180122
CREATED:20260205T093309Z
LAST-MODIFIED:20260205T093328Z
UID:3343-1771320600-1771326000@ayerlanas.nadi.my
SUMMARY:MAHIR MASAK INTAKE #3
DESCRIPTION:
URL:https://ayerlanas.nadi.my/event/mahir-masak-intake-3-2/
END:VEVENT
BEGIN:VEVENT
DTSTART;TZID=Asia/Kuala_Lumpur:20260217T150000
DTEND;TZID=Asia/Kuala_Lumpur:20260217T163000
DTSTAMP:20260421T180122
CREATED:20260205T093357Z
LAST-MODIFIED:20260205T093357Z
UID:3345-1771340400-1771345800@ayerlanas.nadi.my
SUMMARY:MAHIR JAHIT INTAKE #3
DESCRIPTION:
URL:https://ayerlanas.nadi.my/event/mahir-jahit-intake-3-2/
END:VEVENT
END:VCALENDAR