BEGIN:VCALENDAR
VERSION:2.0
PRODID:-//NADI Ayer Lanas - ECPv6.15.20//NONSGML v1.0//EN
CALSCALE:GREGORIAN
METHOD:PUBLISH
X-WR-CALNAME:NADI Ayer Lanas
X-ORIGINAL-URL:https://ayerlanas.nadi.my
X-WR-CALDESC:Events for NADI Ayer Lanas
REFRESH-INTERVAL;VALUE=DURATION:PT1H
X-Robots-Tag:noindex
X-PUBLISHED-TTL:PT1H
BEGIN:VTIMEZONE
TZID:Asia/Kuala_Lumpur
BEGIN:STANDARD
TZOFFSETFROM:+0800
TZOFFSETTO:+0800
TZNAME:+08
DTSTART:20250101T000000
END:STANDARD
END:VTIMEZONE
BEGIN:VEVENT
DTSTART;TZID=Asia/Kuala_Lumpur:20260129T150000
DTEND;TZID=Asia/Kuala_Lumpur:20260129T163000
DTSTAMP:20260422T110921
CREATED:20260128T031712Z
LAST-MODIFIED:20260128T031712Z
UID:3313-1769698800-1769704200@ayerlanas.nadi.my
SUMMARY:Cara Menangani Ancaman Serangan Siber
DESCRIPTION:
URL:https://ayerlanas.nadi.my/event/cara-menangani-ancaman-serangan-siber/
END:VEVENT
BEGIN:VEVENT
DTSTART;TZID=Asia/Kuala_Lumpur:20260129T153000
DTEND;TZID=Asia/Kuala_Lumpur:20260129T163000
DTSTAMP:20260422T110921
CREATED:20260106T045041Z
LAST-MODIFIED:20260106T045041Z
UID:3153-1769700600-1769704200@ayerlanas.nadi.my
SUMMARY:DILEA OPEN TUITION LIVE CLASSES Q1/2026  (TING 1-5): SAINS
DESCRIPTION:
URL:https://ayerlanas.nadi.my/event/dilea-open-tuition-live-classes-q1-2026-ting-1-5-sains-2/
END:VEVENT
END:VCALENDAR