BEGIN:VCALENDAR
VERSION:2.0
PRODID:-//NADI Ayer Lanas - ECPv6.15.20//NONSGML v1.0//EN
CALSCALE:GREGORIAN
METHOD:PUBLISH
X-WR-CALNAME:NADI Ayer Lanas
X-ORIGINAL-URL:https://ayerlanas.nadi.my
X-WR-CALDESC:Events for NADI Ayer Lanas
REFRESH-INTERVAL;VALUE=DURATION:PT1H
X-Robots-Tag:noindex
X-PUBLISHED-TTL:PT1H
BEGIN:VTIMEZONE
TZID:Asia/Kuala_Lumpur
BEGIN:STANDARD
TZOFFSETFROM:+0800
TZOFFSETTO:+0800
TZNAME:+08
DTSTART:20240101T000000
END:STANDARD
END:VTIMEZONE
BEGIN:VEVENT
DTSTART;TZID=Asia/Kuala_Lumpur:20250922T100000
DTEND;TZID=Asia/Kuala_Lumpur:20250928T110000
DTSTAMP:20260425T211729
CREATED:20250903T073535Z
LAST-MODIFIED:20250903T073535Z
UID:2892-1758535200-1759057200@ayerlanas.nadi.my
SUMMARY:DILEA : ENGLISH PROFICIENCY LESSON 15
DESCRIPTION:
URL:https://ayerlanas.nadi.my/event/dilea-english-proficiency-lesson-15/
END:VEVENT
BEGIN:VEVENT
DTSTART;TZID=Asia/Kuala_Lumpur:20250925T091500
DTEND;TZID=Asia/Kuala_Lumpur:20250925T221500
DTSTAMP:20260425T211729
CREATED:20250903T070825Z
LAST-MODIFIED:20250903T070825Z
UID:2869-1758791700-1758838500@ayerlanas.nadi.my
SUMMARY:DILEA : OPEN TUITION (BAHASA INGGERIS TING 1&2)
DESCRIPTION:
URL:https://ayerlanas.nadi.my/event/dilea-open-tuition-bahasa-inggeris-ting-12/
END:VEVENT
BEGIN:VEVENT
DTSTART;TZID=Asia/Kuala_Lumpur:20250925T153000
DTEND;TZID=Asia/Kuala_Lumpur:20250925T163000
DTSTAMP:20260425T211729
CREATED:20250903T071243Z
LAST-MODIFIED:20250903T071243Z
UID:2882-1758814200-1758817800@ayerlanas.nadi.my
SUMMARY:DILEA : OPEN TUITION (SAINS TING 1-5)
DESCRIPTION:
URL:https://ayerlanas.nadi.my/event/dilea-open-tuition-sains-ting-1-5-2/
END:VEVENT
END:VCALENDAR