BEGIN:VCALENDAR
VERSION:2.0
PRODID:-//NADI Ayer Lanas - ECPv6.15.20//NONSGML v1.0//EN
CALSCALE:GREGORIAN
METHOD:PUBLISH
X-WR-CALNAME:NADI Ayer Lanas
X-ORIGINAL-URL:https://ayerlanas.nadi.my
X-WR-CALDESC:Events for NADI Ayer Lanas
REFRESH-INTERVAL;VALUE=DURATION:PT1H
X-Robots-Tag:noindex
X-PUBLISHED-TTL:PT1H
BEGIN:VTIMEZONE
TZID:Asia/Kuala_Lumpur
BEGIN:STANDARD
TZOFFSETFROM:+0800
TZOFFSETTO:+0800
TZNAME:+08
DTSTART:20240101T000000
END:STANDARD
END:VTIMEZONE
BEGIN:VEVENT
DTSTART;TZID=Asia/Kuala_Lumpur:20250922T091500
DTEND;TZID=Asia/Kuala_Lumpur:20250922T221500
DTSTAMP:20260425T033644
CREATED:20250903T070720Z
LAST-MODIFIED:20250903T070720Z
UID:2867-1758532500-1758579300@ayerlanas.nadi.my
SUMMARY:DILEA : OPEN TUITION (SEJARAH TING 1&2)
DESCRIPTION:
URL:https://ayerlanas.nadi.my/event/dilea-open-tuition-sejarah-ting-12-2/
END:VEVENT
BEGIN:VEVENT
DTSTART;TZID=Asia/Kuala_Lumpur:20250922T100000
DTEND;TZID=Asia/Kuala_Lumpur:20250928T110000
DTSTAMP:20260425T033644
CREATED:20250903T073535Z
LAST-MODIFIED:20250903T073535Z
UID:2892-1758535200-1759057200@ayerlanas.nadi.my
SUMMARY:DILEA : ENGLISH PROFICIENCY LESSON 15
DESCRIPTION:
URL:https://ayerlanas.nadi.my/event/dilea-english-proficiency-lesson-15/
END:VEVENT
BEGIN:VEVENT
DTSTART;TZID=Asia/Kuala_Lumpur:20250922T153000
DTEND;TZID=Asia/Kuala_Lumpur:20250922T163000
DTSTAMP:20260425T033644
CREATED:20250903T071144Z
LAST-MODIFIED:20250903T071201Z
UID:2879-1758555000-1758558600@ayerlanas.nadi.my
SUMMARY:DILEA : OPEN TUITION (SEJARAH TING 1-5)
DESCRIPTION:
URL:https://ayerlanas.nadi.my/event/dilea-open-tuition-bahasa-melayu-ting-1-5-3/
END:VEVENT
END:VCALENDAR