BEGIN:VCALENDAR
VERSION:2.0
PRODID:-//NADI Ayer Lanas - ECPv6.15.20//NONSGML v1.0//EN
CALSCALE:GREGORIAN
METHOD:PUBLISH
X-WR-CALNAME:NADI Ayer Lanas
X-ORIGINAL-URL:https://ayerlanas.nadi.my
X-WR-CALDESC:Events for NADI Ayer Lanas
REFRESH-INTERVAL;VALUE=DURATION:PT1H
X-Robots-Tag:noindex
X-PUBLISHED-TTL:PT1H
BEGIN:VTIMEZONE
TZID:Asia/Kuala_Lumpur
BEGIN:STANDARD
TZOFFSETFROM:+0800
TZOFFSETTO:+0800
TZNAME:+08
DTSTART:20240101T000000
END:STANDARD
END:VTIMEZONE
BEGIN:VEVENT
DTSTART;TZID=Asia/Kuala_Lumpur:20250918T091500
DTEND;TZID=Asia/Kuala_Lumpur:20250918T221500
DTSTAMP:20260425T211759
CREATED:20250903T070636Z
LAST-MODIFIED:20250903T070636Z
UID:2865-1758186900-1758233700@ayerlanas.nadi.my
SUMMARY:DILEA : OPEN TUITION (BAHASA MELAYU TING 1&2)
DESCRIPTION:
URL:https://ayerlanas.nadi.my/event/dilea-open-tuition-bahasa-melayu-ting-12-2/
END:VEVENT
BEGIN:VEVENT
DTSTART;TZID=Asia/Kuala_Lumpur:20250918T153000
DTEND;TZID=Asia/Kuala_Lumpur:20250918T163000
DTSTAMP:20260425T211759
CREATED:20250903T071114Z
LAST-MODIFIED:20250903T071114Z
UID:2877-1758209400-1758213000@ayerlanas.nadi.my
SUMMARY:DILEA : OPEN TUITION (BAHASA MELAYU TING 1-5)
DESCRIPTION:
URL:https://ayerlanas.nadi.my/event/dilea-open-tuition-bahasa-melayu-ting-1-5-2/
END:VEVENT
END:VCALENDAR